Package: GenVisR Version: 1.40.0 Command: /Library/Frameworks/R.framework/Resources/bin/R CMD INSTALL GenVisR StartedAt: 2025-10-13 17:18:07 -0400 (Mon, 13 Oct 2025) EndedAt: 2025-10-13 17:19:05 -0400 (Mon, 13 Oct 2025) EllapsedTime: 58.5 seconds RetCode: 0 Status: OK