Package: GenVisR Version: 1.40.0 Command: /Library/Frameworks/R.framework/Resources/bin/R CMD build --keep-empty-dirs --no-resave-data GenVisR StartedAt: 2025-10-14 01:05:35 -0400 (Tue, 14 Oct 2025) EndedAt: 2025-10-14 01:08:18 -0400 (Tue, 14 Oct 2025) EllapsedTime: 163.3 seconds RetCode: 0 Status: OK PackageFile: GenVisR_1.40.0.tar.gz PackageFileSize: 4.384 MiB