Package: GenProSeq Version: 1.14.0 Command: /home/biocbuild/R/R/bin/R CMD INSTALL GenProSeq StartedAt: 2025-11-10 21:17:14 -0000 (Mon, 10 Nov 2025) EndedAt: 2025-11-10 21:17:32 -0000 (Mon, 10 Nov 2025) EllapsedTime: 18.6 seconds RetCode: 0 Status: OK