Package: GenProSeq Version: 1.14.0 Command: /home/biocbuild/R/R/bin/R CMD build --keep-empty-dirs --no-resave-data GenProSeq StartedAt: 2025-11-11 01:58:37 -0000 (Tue, 11 Nov 2025) EndedAt: 2025-11-11 01:59:09 -0000 (Tue, 11 Nov 2025) EllapsedTime: 32.0 seconds RetCode: 0 Status: OK PackageFile: GenProSeq_1.14.0.tar.gz PackageFileSize: 1.14 MiB