Package: GeDi Version: 1.6.0 Command: /home/biocbuild/bbs-3.22-bioc/R/bin/R CMD INSTALL GeDi StartedAt: 2025-11-11 15:54:51 -0500 (Tue, 11 Nov 2025) EndedAt: 2025-11-11 15:55:48 -0500 (Tue, 11 Nov 2025) EllapsedTime: 56.7 seconds RetCode: 0 Status: OK