Package: GeDi Version: 1.6.0 Command: /home/biocbuild/bbs-3.22-bioc/R/bin/R CMD check --install=check:GeDi.install-out.txt --library=/home/biocbuild/bbs-3.22-bioc/R/site-library --timings GeDi_1.6.0.tar.gz StartedAt: 2025-11-14 23:58:30 -0500 (Fri, 14 Nov 2025) EndedAt: 2025-11-15 00:15:14 -0500 (Sat, 15 Nov 2025) EllapsedTime: 1004.1 seconds RetCode: 1 Status: ERROR CheckDir: GeDi.Rcheck Warnings: NA