Package: GeDi Version: 1.4.0 Command: /home/biocbuild/R/R/bin/R CMD INSTALL GeDi StartedAt: 2025-09-29 21:13:04 -0000 (Mon, 29 Sep 2025) EndedAt: 2025-09-29 21:14:17 -0000 (Mon, 29 Sep 2025) EllapsedTime: 73.2 seconds RetCode: 0 Status: OK