Package: GeDi Version: 1.4.0 Command: /Library/Frameworks/R.framework/Resources/bin/R CMD INSTALL GeDi StartedAt: 2025-10-13 17:54:35 -0400 (Mon, 13 Oct 2025) EndedAt: 2025-10-13 17:55:38 -0400 (Mon, 13 Oct 2025) EllapsedTime: 62.9 seconds RetCode: 0 Status: OK