Package: GeDi Version: 1.4.0 Command: /Library/Frameworks/R.framework/Resources/bin/R CMD build --keep-empty-dirs --no-resave-data GeDi StartedAt: 2025-10-14 00:50:06 -0400 (Tue, 14 Oct 2025) EndedAt: 2025-10-14 00:53:43 -0400 (Tue, 14 Oct 2025) EllapsedTime: 216.3 seconds RetCode: 0 Status: OK PackageFile: GeDi_1.4.0.tar.gz PackageFileSize: 3.413 MiB