Package: GeDi Version: 1.4.0 Command: rm -rf GeDi.buildbin-libdir && mkdir GeDi.buildbin-libdir && /Users/biocbuild/BBS/utils/build-universal.sh GeDi_1.4.0.tar.gz /Library/Frameworks/R.framework/Resources/bin/R GeDi.buildbin-libdir StartedAt: 2025-10-15 18:36:14 -0400 (Wed, 15 Oct 2025) EndedAt: 2025-10-15 18:37:23 -0400 (Wed, 15 Oct 2025) EllapsedTime: 69.0 seconds RetCode: 0 Status: OK PackageFile: GeDi_1.4.0.tgz PackageFileSize: 2.776 MiB