Package: GeDi Version: 1.6.0 Maintainer: Annekathrin Nedwed MaintainerEmail: anneludt at uni-mainz.de git_url: https://git.bioconductor.org/packages/GeDi git_branch: RELEASE_3_22 git_last_commit: 308bc6a git_last_commit_date: 2025-10-29 11:29:41 -0400 (Wed, 29 Oct 2025)