Package: GateFinder Version: 1.30.0 Command: /home/biocbuild/bbs-3.22-bioc/R/bin/R CMD INSTALL GateFinder StartedAt: 2025-11-11 15:18:28 -0500 (Tue, 11 Nov 2025) EndedAt: 2025-11-11 15:18:39 -0500 (Tue, 11 Nov 2025) EllapsedTime: 10.7 seconds RetCode: 0 Status: OK