Package: GateFinder Version: 1.30.0 Command: /home/biocbuild/bbs-3.22-bioc/R/bin/R CMD check --install=check:GateFinder.install-out.txt --library=/home/biocbuild/bbs-3.22-bioc/R/site-library --timings GateFinder_1.30.0.tar.gz StartedAt: 2025-11-13 23:53:54 -0500 (Thu, 13 Nov 2025) EndedAt: 2025-11-13 23:55:06 -0500 (Thu, 13 Nov 2025) EllapsedTime: 72.1 seconds RetCode: 0 Status: WARNINGS CheckDir: GateFinder.Rcheck Warnings: 1