Package: GateFinder Version: 1.28.0 Command: /home/biocbuild/bbs-3.21-bioc/R/bin/R CMD INSTALL GateFinder StartedAt: 2025-10-15 15:13:30 -0400 (Wed, 15 Oct 2025) EndedAt: 2025-10-15 15:13:42 -0400 (Wed, 15 Oct 2025) EllapsedTime: 11.4 seconds RetCode: 0 Status: OK