Package: GateFinder Version: 1.28.0 Command: /home/biocbuild/bbs-3.21-bioc/R/bin/R CMD build --keep-empty-dirs --no-resave-data GateFinder StartedAt: 2025-10-15 17:35:23 -0400 (Wed, 15 Oct 2025) EndedAt: 2025-10-15 17:35:41 -0400 (Wed, 15 Oct 2025) EllapsedTime: 18.0 seconds RetCode: 0 Status: OK PackageFile: GateFinder_1.28.0.tar.gz PackageFileSize: 582.1 KiB