Package: GateFinder Version: 1.28.0 Command: /Library/Frameworks/R.framework/Resources/bin/R CMD INSTALL GateFinder StartedAt: 2025-10-13 15:38:16 -0400 (Mon, 13 Oct 2025) EndedAt: 2025-10-13 15:38:30 -0400 (Mon, 13 Oct 2025) EllapsedTime: 13.3 seconds RetCode: 0 Status: OK