Package: GateFinder Version: 1.28.0 Command: /Library/Frameworks/R.framework/Resources/bin/R CMD build --keep-empty-dirs --no-resave-data GateFinder StartedAt: 2025-10-14 00:42:10 -0400 (Tue, 14 Oct 2025) EndedAt: 2025-10-14 00:42:36 -0400 (Tue, 14 Oct 2025) EllapsedTime: 26.3 seconds RetCode: 0 Status: OK PackageFile: GateFinder_1.28.0.tar.gz PackageFileSize: 582.3 KiB