Package: GWASTools Version: 1.56.0 Command: /home/biocbuild/bbs-3.22-bioc/R/bin/R CMD INSTALL GWASTools StartedAt: 2025-11-11 15:16:24 -0500 (Tue, 11 Nov 2025) EndedAt: 2025-11-11 15:16:48 -0500 (Tue, 11 Nov 2025) EllapsedTime: 24.4 seconds RetCode: 0 Status: OK