Package: GWASTools Version: 1.56.0 Command: /home/biocbuild/bbs-3.22-bioc/R/bin/R CMD check --install=check:GWASTools.install-out.txt --library=/home/biocbuild/bbs-3.22-bioc/R/site-library --timings GWASTools_1.56.0.tar.gz StartedAt: 2025-11-12 00:24:12 -0500 (Wed, 12 Nov 2025) EndedAt: 2025-11-12 00:28:50 -0500 (Wed, 12 Nov 2025) EllapsedTime: 278.3 seconds RetCode: 0 Status: OK CheckDir: GWASTools.Rcheck Warnings: 0