Package: GWASTools Version: 1.56.0 Command: /home/biocbuild/bbs-3.22-bioc/R/bin/R CMD build --keep-empty-dirs --no-resave-data --md5 GWASTools StartedAt: 2025-11-11 18:08:08 -0500 (Tue, 11 Nov 2025) EndedAt: 2025-11-11 18:08:57 -0500 (Tue, 11 Nov 2025) EllapsedTime: 49.0 seconds RetCode: 0 Status: OK PackageFile: GWASTools_1.56.0.tar.gz PackageFileSize: 1.937 MiB