Package: GWASTools Version: 1.54.0 Command: /home/biocbuild/bbs-3.21-bioc/R/bin/R CMD build --keep-empty-dirs --no-resave-data GWASTools StartedAt: 2025-10-15 17:54:18 -0400 (Wed, 15 Oct 2025) EndedAt: 2025-10-15 17:55:08 -0400 (Wed, 15 Oct 2025) EllapsedTime: 50.0 seconds RetCode: 0 Status: OK PackageFile: GWASTools_1.54.0.tar.gz PackageFileSize: 1.936 MiB