Package: GWASTools Version: 1.54.0 Command: /Library/Frameworks/R.framework/Resources/bin/R CMD INSTALL GWASTools StartedAt: 2025-10-13 15:34:01 -0400 (Mon, 13 Oct 2025) EndedAt: 2025-10-13 15:34:29 -0400 (Mon, 13 Oct 2025) EllapsedTime: 27.8 seconds RetCode: 0 Status: OK