Package: GWASTools Version: 1.56.0 Maintainer: Stephanie M. Gogarten MaintainerEmail: sdmorris at uw.edu git_url: https://git.bioconductor.org/packages/GWASTools git_branch: RELEASE_3_22 git_last_commit: 121c763 git_last_commit_date: 2025-10-29 10:09:16 -0400 (Wed, 29 Oct 2025)