Package: GWAS.BAYES Version: 1.20.0 Command: /home/biocbuild/R/R/bin/R CMD build --keep-empty-dirs --no-resave-data GWAS.BAYES StartedAt: 2025-11-21 03:04:31 -0000 (Fri, 21 Nov 2025) EndedAt: 2025-11-21 03:08:46 -0000 (Fri, 21 Nov 2025) EllapsedTime: 254.6 seconds RetCode: 0 Status: OK PackageFile: GWAS.BAYES_1.20.0.tar.gz PackageFileSize: 1.394 MiB