Package: GWAS.BAYES Version: 1.18.0 Command: /home/biocbuild/bbs-3.21-bioc/R/bin/R CMD build --keep-empty-dirs --no-resave-data GWAS.BAYES StartedAt: 2025-10-15 17:54:01 -0400 (Wed, 15 Oct 2025) EndedAt: 2025-10-15 17:56:50 -0400 (Wed, 15 Oct 2025) EllapsedTime: 168.4 seconds RetCode: 0 Status: OK PackageFile: GWAS.BAYES_1.18.0.tar.gz PackageFileSize: 1.347 MiB