Package: GWAS.BAYES Version: 1.20.0 Command: /Library/Frameworks/R.framework/Resources/bin/R CMD INSTALL GWAS.BAYES StartedAt: 2025-11-20 16:01:40 -0500 (Thu, 20 Nov 2025) EndedAt: 2025-11-20 16:02:13 -0500 (Thu, 20 Nov 2025) EllapsedTime: 33.5 seconds RetCode: 0 Status: OK