Package: GWAS.BAYES Version: 1.20.0 Command: rm -rf GWAS.BAYES.buildbin-libdir && mkdir GWAS.BAYES.buildbin-libdir && /Users/biocbuild/BBS/utils/build-universal.sh GWAS.BAYES_1.20.0.tar.gz /Library/Frameworks/R.framework/Resources/bin/R GWAS.BAYES.buildbin-libdir StartedAt: 2025-11-21 14:51:51 -0500 (Fri, 21 Nov 2025) EndedAt: 2025-11-21 14:52:06 -0500 (Fri, 21 Nov 2025) EllapsedTime: 14.9 seconds RetCode: 0 Status: OK PackageFile: GWAS.BAYES_1.20.0.tgz PackageFileSize: 2.006 MiB