Package: GWAS.BAYES Version: 1.18.0 Command: /home/biocbuild/R/R/bin/R CMD INSTALL GWAS.BAYES StartedAt: 2025-09-25 20:21:45 -0000 (Thu, 25 Sep 2025) EndedAt: 2025-09-25 20:22:04 -0000 (Thu, 25 Sep 2025) EllapsedTime: 18.3 seconds RetCode: 0 Status: OK