Package: GWAS.BAYES Version: 1.18.0 Command: /Library/Frameworks/R.framework/Resources/bin/R CMD INSTALL GWAS.BAYES StartedAt: 2025-10-13 15:27:36 -0400 (Mon, 13 Oct 2025) EndedAt: 2025-10-13 15:27:49 -0400 (Mon, 13 Oct 2025) EllapsedTime: 13.0 seconds RetCode: 0 Status: OK