Package: GWAS.BAYES Version: 1.18.0 Command: /Library/Frameworks/R.framework/Resources/bin/R CMD build --keep-empty-dirs --no-resave-data GWAS.BAYES StartedAt: 2025-10-14 01:56:16 -0400 (Tue, 14 Oct 2025) EndedAt: 2025-10-14 02:00:27 -0400 (Tue, 14 Oct 2025) EllapsedTime: 251.6 seconds RetCode: 0 Status: OK PackageFile: GWAS.BAYES_1.18.0.tar.gz PackageFileSize: 1.347 MiB