Package: GWAS.BAYES Version: 1.18.0 Command: rm -rf GWAS.BAYES.buildbin-libdir && mkdir GWAS.BAYES.buildbin-libdir && /Users/biocbuild/BBS/utils/build-universal.sh GWAS.BAYES_1.18.0.tar.gz /Library/Frameworks/R.framework/Resources/bin/R GWAS.BAYES.buildbin-libdir StartedAt: 2025-10-15 18:48:34 -0400 (Wed, 15 Oct 2025) EndedAt: 2025-10-15 18:48:44 -0400 (Wed, 15 Oct 2025) EllapsedTime: 10.1 seconds RetCode: 0 Status: OK PackageFile: GWAS.BAYES_1.18.0.tgz PackageFileSize: 2.006 MiB