Package: GUIDEseq Version: 1.40.0 Command: /home/biocbuild/R/R/bin/R CMD INSTALL GUIDEseq StartedAt: 2025-11-13 22:01:50 -0000 (Thu, 13 Nov 2025) EndedAt: 2025-11-13 22:02:57 -0000 (Thu, 13 Nov 2025) EllapsedTime: 67.5 seconds RetCode: 0 Status: OK