Package: GUIDEseq Version: 1.38.0 Command: /home/biocbuild/bbs-3.21-bioc/R/bin/R CMD INSTALL GUIDEseq StartedAt: 2025-10-05 15:53:14 -0400 (Sun, 05 Oct 2025) EndedAt: 2025-10-05 15:54:05 -0400 (Sun, 05 Oct 2025) EllapsedTime: 51.5 seconds RetCode: 0 Status: OK