Package: GUIDEseq Version: 1.38.0 Command: /home/biocbuild/bbs-3.21-bioc/R/bin/R CMD build --keep-empty-dirs --no-resave-data GUIDEseq StartedAt: 2025-10-01 17:57:53 -0400 (Wed, 01 Oct 2025) EndedAt: 2025-10-01 17:59:36 -0400 (Wed, 01 Oct 2025) EllapsedTime: 103.1 seconds RetCode: 0 Status: OK PackageFile: GUIDEseq_1.38.0.tar.gz PackageFileSize: 5.869 MiB