Package: GUIDEseq Version: 1.38.0 Command: /Library/Frameworks/R.framework/Resources/bin/R CMD INSTALL GUIDEseq StartedAt: 2025-10-02 18:04:38 -0400 (Thu, 02 Oct 2025) EndedAt: 2025-10-02 18:05:38 -0400 (Thu, 02 Oct 2025) EllapsedTime: 60.4 seconds RetCode: 0 Status: OK