Package: GUIDEseq Version: 1.38.0 Command: /Library/Frameworks/R.framework/Resources/bin/R CMD build --keep-empty-dirs --no-resave-data GUIDEseq StartedAt: 2025-10-03 01:52:27 -0400 (Fri, 03 Oct 2025) EndedAt: 2025-10-03 01:54:24 -0400 (Fri, 03 Oct 2025) EllapsedTime: 117.2 seconds RetCode: 0 Status: OK PackageFile: GUIDEseq_1.38.0.tar.gz PackageFileSize: 5.869 MiB