Package: GSVA Version: 2.4.1 Command: /home/biocbuild/bbs-3.22-bioc/R/bin/R CMD INSTALL GSVA StartedAt: 2025-11-11 15:59:29 -0500 (Tue, 11 Nov 2025) EndedAt: 2025-11-11 16:00:10 -0500 (Tue, 11 Nov 2025) EllapsedTime: 41.2 seconds RetCode: 0 Status: OK