Package: GSVA Version: 2.4.1 Command: /home/biocbuild/bbs-3.22-bioc/R/bin/R CMD build --keep-empty-dirs --no-resave-data --md5 GSVA StartedAt: 2025-11-11 18:07:07 -0500 (Tue, 11 Nov 2025) EndedAt: 2025-11-11 18:10:58 -0500 (Tue, 11 Nov 2025) EllapsedTime: 231.3 seconds RetCode: 0 Status: OK PackageFile: GSVA_2.4.1.tar.gz PackageFileSize: 3.217 MiB