Package: GSVA Version: 2.4.1 Command: /Library/Frameworks/R.framework/Resources/bin/R CMD INSTALL GSVA StartedAt: 2025-11-10 15:28:57 -0500 (Mon, 10 Nov 2025) EndedAt: 2025-11-10 15:29:14 -0500 (Mon, 10 Nov 2025) EllapsedTime: 16.8 seconds RetCode: 0 Status: OK