Package: GSVA Version: 2.4.1 Command: rm -rf GSVA.buildbin-libdir && mkdir GSVA.buildbin-libdir && /Users/biocbuild/BBS/utils/build-universal.sh GSVA_2.4.1.tar.gz /Library/Frameworks/R.framework/Resources/bin/R GSVA.buildbin-libdir StartedAt: 2025-11-10 23:22:41 -0500 (Mon, 10 Nov 2025) EndedAt: 2025-11-10 23:23:00 -0500 (Mon, 10 Nov 2025) EllapsedTime: 18.3 seconds RetCode: 0 Status: OK PackageFile: GSVA_2.4.1.tgz PackageFileSize: 3.168 MiB