Back to Multiple platform build/check report for BioC 3.22:   simplified   long
ABCDEF[G]HIJKLMNOPQRSTUVWXYZ

This page was generated on 2025-11-07 12:00 -0500 (Fri, 07 Nov 2025).

HostnameOSArch (*)R versionInstalled pkgs
nebbiolo2Linux (Ubuntu 24.04.3 LTS)x86_644.5.1 Patched (2025-08-23 r88802) -- "Great Square Root" 4902
kjohnson3macOS 13.7.7 Venturaarm644.5.1 Patched (2025-09-10 r88807) -- "Great Square Root" 4638
Click on any hostname to see more info about the system (e.g. compilers)      (*) as reported by 'uname -p', except on Windows and Mac OS X

All results for package GSVA


To the developers/maintainers of the GSVA package:
- Allow up to 24 hours (and sometimes 48 hours) for your latest push to git@git.bioconductor.org:packages/GSVA.git to reflect on this report. See Troubleshooting Build Report for more information.
- Use the following Renviron settings to reproduce errors and warnings.
- If 'R CMD check' started to fail recently on the Linux builder(s) over a missing dependency, add the missing dependency to 'Suggests:' in your DESCRIPTION file. See Renviron.bioc for more information.

raw results

Package 943/2361HostnameOS / ArchINSTALLBUILDCHECKBUILD BIN
GSVA 2.4.1  (landing page)
Robert Castelo
Snapshot Date: 2025-11-06 13:45 -0500 (Thu, 06 Nov 2025)
git_url: https://git.bioconductor.org/packages/GSVA
git_branch: RELEASE_3_22
git_last_commit: 441c638
git_last_commit_date: 2025-11-05 07:26:13 -0500 (Wed, 05 Nov 2025)
nebbiolo2Linux (Ubuntu 24.04.3 LTS) / x86_64  OK    OK    OK  UNNEEDED, same version is already published
kjohnson3macOS 13.7.7 Ventura / arm64  OK    OK    OK    OK  UNNEEDED, same version is already published



Results for Bioconductor software packages that depend directly on package GSVA

QUICK STATSOS / ArchINSTALLBUILDCHECKBUILD BIN
nebbiolo2Linux (Ubuntu 24.04.3 LTS) / x86_64
009
009
0117
kjohnson3macOS 13.7.7 Ventura / arm64
009
009
0216
009
Package 1/9HostnameOS / ArchINSTALLBUILDCHECKBUILD BIN
consensusOV 1.32.0  (landing page)
Benjamin Haibe-Kains
git_last_commit: 04a4249
git_last_commit_date: 2025-10-29 10:39:32 -0500
nebbiolo2Linux (Ubuntu 24.04.3 LTS) / x86_64  OK    OK    OK  UNNEEDED, same version is already published
kjohnson3macOS 13.7.7 Ventura / arm64  OK    OK    OK    OK  UNNEEDED, same version is already published
Package 2/9HostnameOS / ArchINSTALLBUILDCHECKBUILD BIN
EGSEA 1.38.0  (landing page)
Monther Alhamdoosh
git_last_commit: 1a8a161
git_last_commit_date: 2025-10-29 10:32:11 -0500
nebbiolo2Linux (Ubuntu 24.04.3 LTS) / x86_64  OK    OK    OK  UNNEEDED, same version is already published
kjohnson3macOS 13.7.7 Ventura / arm64  OK    OK    OK    OK  UNNEEDED, same version is already published
Package 3/9HostnameOS / ArchINSTALLBUILDCHECKBUILD BIN
octad 1.12.0  (landing page)
E. Chekalin
git_last_commit: e8beea0
git_last_commit_date: 2025-10-29 11:19:54 -0500
nebbiolo2Linux (Ubuntu 24.04.3 LTS) / x86_64  OK    OK    OK  UNNEEDED, same version is already published
kjohnson3macOS 13.7.7 Ventura / arm64  OK    OK    OK    OK  UNNEEDED, same version is already published
Package 4/9HostnameOS / ArchINSTALLBUILDCHECKBUILD BIN
oppar 1.38.0  (landing page)
Soroor Hediyeh zadeh
git_last_commit: ef174de
git_last_commit_date: 2025-10-29 10:31:41 -0500
nebbiolo2Linux (Ubuntu 24.04.3 LTS) / x86_64  OK    OK    WARNINGS  UNNEEDED, same version is already published
kjohnson3macOS 13.7.7 Ventura / arm64  OK    OK    WARNINGS    OK  UNNEEDED, same version is already published
Package 5/9HostnameOS / ArchINSTALLBUILDCHECKBUILD BIN
pathMED 1.2.0  (landing page)
Jordi Martorell-Marugán
git_last_commit: b17f51c
git_last_commit_date: 2025-10-29 11:36:06 -0500
nebbiolo2Linux (Ubuntu 24.04.3 LTS) / x86_64  OK    OK    OK  UNNEEDED, same version is already published
kjohnson3macOS 13.7.7 Ventura / arm64  OK    OK    ERROR    OK  
Package 6/9HostnameOS / ArchINSTALLBUILDCHECKBUILD BIN
scFeatures 1.10.0  (landing page)
Yue Cao
git_last_commit: 6a2b3d3
git_last_commit_date: 2025-10-29 11:20:52 -0500
nebbiolo2Linux (Ubuntu 24.04.3 LTS) / x86_64  OK    OK    ERROR  
kjohnson3macOS 13.7.7 Ventura / arm64  OK    OK    ERROR    OK  
Package 7/9HostnameOS / ArchINSTALLBUILDCHECKBUILD BIN
signifinder 1.12.0  (landing page)
Stefania Pirrotta
git_last_commit: 4cc4ec4
git_last_commit_date: 2025-10-29 11:19:34 -0500
nebbiolo2Linux (Ubuntu 24.04.3 LTS) / x86_64  OK    OK    OK  UNNEEDED, same version is already published
kjohnson3macOS 13.7.7 Ventura / arm64  OK    OK    OK    OK  UNNEEDED, same version is already published
Package 8/9HostnameOS / ArchINSTALLBUILDCHECKBUILD BIN
singleCellTK 2.20.0  (landing page)
Joshua David Campbell
git_last_commit: e2bff7b
git_last_commit_date: 2025-10-29 11:29:49 -0500
nebbiolo2Linux (Ubuntu 24.04.3 LTS) / x86_64  OK    OK    OK  UNNEEDED, same version is already published
kjohnson3macOS 13.7.7 Ventura / arm64  OK    OK    OK    OK  UNNEEDED, same version is already published
Package 9/9HostnameOS / ArchINSTALLBUILDCHECKBUILD BIN
TBSignatureProfiler 1.22.0  (landing page)
Kiloni Quiles
git_last_commit: 376376a
git_last_commit_date: 2025-10-29 10:58:59 -0500
nebbiolo2Linux (Ubuntu 24.04.3 LTS) / x86_64  OK    OK    OK  UNNEEDED, same version is already published
kjohnson3macOS 13.7.7 Ventura / arm64  OK    OK    OK    OK  UNNEEDED, same version is already published