Package: GSReg Version: 1.44.0 Command: /home/biocbuild/bbs-3.22-bioc/R/bin/R CMD check --install=check:GSReg.install-out.txt --library=/home/biocbuild/bbs-3.22-bioc/R/site-library --timings GSReg_1.44.0.tar.gz StartedAt: 2025-11-18 04:51:47 -0500 (Tue, 18 Nov 2025) EndedAt: 2025-11-18 04:55:38 -0500 (Tue, 18 Nov 2025) EllapsedTime: 231.4 seconds RetCode: 0 Status: WARNINGS CheckDir: GSReg.Rcheck Warnings: 3