Package: GSReg Version: 1.44.0 Command: /home/biocbuild/bbs-3.22-bioc/R/bin/R CMD build --keep-empty-dirs --no-resave-data --md5 GSReg StartedAt: 2025-11-11 18:06:44 -0500 (Tue, 11 Nov 2025) EndedAt: 2025-11-11 18:08:13 -0500 (Tue, 11 Nov 2025) EllapsedTime: 89.1 seconds RetCode: 0 Status: OK PackageFile: GSReg_1.44.0.tar.gz PackageFileSize: 470.6 KiB