Package: GSReg Version: 1.44.0 Command: /Library/Frameworks/R.framework/Resources/bin/R CMD INSTALL GSReg StartedAt: 2025-11-03 15:54:44 -0500 (Mon, 03 Nov 2025) EndedAt: 2025-11-03 15:55:35 -0500 (Mon, 03 Nov 2025) EllapsedTime: 51.2 seconds RetCode: 0 Status: OK