Package: GSReg Version: 1.44.0 Command: /Library/Frameworks/R.framework/Resources/bin/R CMD build --keep-empty-dirs --no-resave-data GSReg StartedAt: 2025-11-03 17:17:11 -0500 (Mon, 03 Nov 2025) EndedAt: 2025-11-03 17:19:00 -0500 (Mon, 03 Nov 2025) EllapsedTime: 108.9 seconds RetCode: 0 Status: OK PackageFile: GSReg_1.44.0.tar.gz PackageFileSize: 468.5 KiB