Package: GSReg Version: 1.42.0 Command: /home/biocbuild/R/R/bin/R CMD INSTALL GSReg StartedAt: 2025-10-13 21:18:27 -0000 (Mon, 13 Oct 2025) EndedAt: 2025-10-13 21:19:26 -0000 (Mon, 13 Oct 2025) EllapsedTime: 59.4 seconds RetCode: 0 Status: OK