Package: GSReg Version: 1.42.0 Command: /home/biocbuild/R/R/bin/R CMD build --keep-empty-dirs --no-resave-data GSReg StartedAt: 2025-10-14 01:31:09 -0000 (Tue, 14 Oct 2025) EndedAt: 2025-10-14 01:32:58 -0000 (Tue, 14 Oct 2025) EllapsedTime: 109.1 seconds RetCode: 0 Status: OK PackageFile: GSReg_1.42.0.tar.gz PackageFileSize: 461.3 KiB