Package: GSReg Version: 1.42.0 Command: /Library/Frameworks/R.framework/Resources/bin/R CMD build --keep-empty-dirs --no-resave-data GSReg StartedAt: 2025-04-21 16:34:00 -0400 (Mon, 21 Apr 2025) EndedAt: 2025-04-21 16:34:40 -0400 (Mon, 21 Apr 2025) EllapsedTime: 40.4 seconds RetCode: 0 Status: OK PackageFile: GSReg_1.42.0.tar.gz PackageFileSize: 466.5 KiB