Package: GSReg Version: 1.44.0 Command: /Library/Frameworks/R.framework/Resources/bin/R CMD INSTALL GSReg StartedAt: 2025-11-20 19:23:28 -0500 (Thu, 20 Nov 2025) EndedAt: 2025-11-20 19:24:12 -0500 (Thu, 20 Nov 2025) EllapsedTime: 44.6 seconds RetCode: 0 Status: OK