Package: GSReg Version: 1.44.0 Command: /Library/Frameworks/R.framework/Resources/bin/R CMD build --keep-empty-dirs --no-resave-data GSReg StartedAt: 2025-11-21 02:37:40 -0500 (Fri, 21 Nov 2025) EndedAt: 2025-11-21 02:39:29 -0500 (Fri, 21 Nov 2025) EllapsedTime: 109.6 seconds RetCode: 0 Status: OK PackageFile: GSReg_1.44.0.tar.gz PackageFileSize: 469.3 KiB